BEGIN:VCALENDAR
VERSION:2.0
PRODID:-//CdLS Foundation - ECPv6.15.18//NONSGML v1.0//EN
CALSCALE:GREGORIAN
METHOD:PUBLISH
X-ORIGINAL-URL:https://www.cdlsusa.org
X-WR-CALDESC:Events for CdLS Foundation
REFRESH-INTERVAL;VALUE=DURATION:PT1H
X-Robots-Tag:noindex
X-PUBLISHED-TTL:PT1H
BEGIN:VTIMEZONE
TZID:America/New_York
BEGIN:DAYLIGHT
TZOFFSETFROM:-0500
TZOFFSETTO:-0400
TZNAME:EDT
DTSTART:20250309T070000
END:DAYLIGHT
BEGIN:STANDARD
TZOFFSETFROM:-0400
TZOFFSETTO:-0500
TZNAME:EST
DTSTART:20251102T060000
END:STANDARD
BEGIN:DAYLIGHT
TZOFFSETFROM:-0500
TZOFFSETTO:-0400
TZNAME:EDT
DTSTART:20260308T070000
END:DAYLIGHT
BEGIN:STANDARD
TZOFFSETFROM:-0400
TZOFFSETTO:-0500
TZNAME:EST
DTSTART:20261101T060000
END:STANDARD
BEGIN:DAYLIGHT
TZOFFSETFROM:-0500
TZOFFSETTO:-0400
TZNAME:EDT
DTSTART:20270314T070000
END:DAYLIGHT
BEGIN:STANDARD
TZOFFSETFROM:-0400
TZOFFSETTO:-0500
TZNAME:EST
DTSTART:20271107T060000
END:STANDARD
END:VTIMEZONE
BEGIN:VEVENT
DTSTART;TZID=America/New_York:20260514T130000
DTEND;TZID=America/New_York:20260514T140000
DTSTAMP:20260425T114233
CREATED:20260424T171409Z
LAST-MODIFIED:20260424T171409Z
UID:10158-1778763600-1778767200@www.cdlsusa.org
SUMMARY:2026 Parent University Class 5 - Vacations and Respite Ideas for the Whole Family
DESCRIPTION:May Parent University™ Class\nPresented by Protected Tomorrows \nClass Five\nVacations and Respite Ideas for the Whole Family\nMay 14\, 2026\n12:00 – 1:00 p.m. CST \nIn this exciting session about respite\, Protected Tomorrows will cover:\n• Have you ever thought t is just not possible to have a vacation?\n• Or maybe just some respite? How does that fit into your life?\n• Where can you find resources that match the needs of your family? \nAll classes begin at 12:00 p.m. CST\nPlease note that classes are recorded for future viewing \nRegister Here: https://us02web.zoom.us/webinar/register/WN_JDssRPESRa2dYntVnrYC6g#/registration
URL:https://www.cdlsusa.org/event/2026-parent-university-class-5-vacations-and-respite-ideas-for-the-whole-family/
ATTACH;FMTTYPE=image/png:https://www.cdlsusa.org/wp-content/uploads/2020/04/Parent-University.png
END:VEVENT
END:VCALENDAR